BEGIN:VCALENDAR
VERSION:2.0
CALSCALE:GREGORIAN
PRODID:-//Diputació de Barcelona//DibaCMS//EN
BEGIN:VEVENT
UID:54152
DTSTAMP:20260425T183629
DTSTART:20181027T113000
DTEND:20181027T113000
SUMMARY:L'HORA DELS NADONS "Beeemoll" a càrrec de Pamipipa
LOCATION:
METHOD:PUBLISH
X-WR-CALNAME:info@llinarsdelvalles.cat
X-WR-TIMEZONE:Europe/Madrid
DESCRIPTION:
URI:https://www.llinarsdelvalles.cat/actualitat/agenda/lhora-dels-nadons-beeemoll-a-carrec-de-pamipipa.html
CLASS:PUBLIC
END:VEVENT
END:VCALENDAR
