BEGIN:VCALENDAR
VERSION:2.0
CALSCALE:GREGORIAN
PRODID:-//Diputació de Barcelona//DibaCMS//EN
BEGIN:VEVENT
UID:54153
DTSTAMP:20260425T183931
DTSTART:20181102T180000
DTEND:20181102T180000
SUMMARY:BIBLIOLAB "Tinta invisible" a càrrec d'Escuelab
LOCATION:Av. Pau Casals, 26 08450 Llinars del Vallès
METHOD:PUBLISH
X-WR-CALNAME:info@llinarsdelvalles.cat
X-WR-TIMEZONE:Europe/Madrid
DESCRIPTION:La biblioteca com a laboratori de creació i experimentació.

URI:https://www.llinarsdelvalles.cat/actualitat/agenda/bibliolab-tinta-invisible-a-carrec-descuelab.html
CLASS:PUBLIC
END:VEVENT
END:VCALENDAR
