BEGIN:VCALENDAR
VERSION:2.0
CALSCALE:GREGORIAN
PRODID:-//Diputació de Barcelona//DibaCMS//EN
BEGIN:VEVENT
UID:54154
DTSTAMP:20260425T173913
DTSTART:20181103T100000
DTEND:20181103T100000
SUMMARY:TALLER FAMILIAR "Vols conèixer la fauna del Montseny?" 
LOCATION:C/ Josep Argila, 39 08450 Llinars del Vallés
METHOD:PUBLISH
X-WR-CALNAME:info@llinarsdelvalles.cat
X-WR-TIMEZONE:Europe/Madrid
DESCRIPTION:Aprèn a observar el teu entorn...

URI:https://www.llinarsdelvalles.cat/actualitat/agenda/taller-familiar-vols-coneixer-la-fauna-del-montseny-.html
CLASS:PUBLIC
END:VEVENT
END:VCALENDAR
