BEGIN:VCALENDAR
VERSION:2.0
CALSCALE:GREGORIAN
PRODID:-//Diputació de Barcelona//DibaCMS//EN
BEGIN:VEVENT
UID:54155
DTSTAMP:20260425T183439
DTSTART:20181109T180000
DTEND:20181109T180000
SUMMARY:BIBLIOLAB "Els primers pagesos" a càrrec de l'Institut català de Paleocologia Humana i Evolució Social
LOCATION:Av. Pau Casals, 26 08450 Llinars del Vallès
METHOD:PUBLISH
X-WR-CALNAME:info@llinarsdelvalles.cat
X-WR-TIMEZONE:Europe/Madrid
DESCRIPTION:La biblioteca com a laboratori de creació i experimentació.

URI:https://www.llinarsdelvalles.cat/actualitat/agenda/bibliolab-els-primers-pagesos-a-carrec-de-linstitut-catala-de-paleocologia-humana-i-evolucio-social.html
CLASS:PUBLIC
END:VEVENT
END:VCALENDAR
