BEGIN:VCALENDAR
VERSION:2.0
CALSCALE:GREGORIAN
PRODID:-//Diputació de Barcelona//DibaCMS//EN
BEGIN:VEVENT
UID:54156
DTSTAMP:20260425T193600
DTSTART:20181110T103000
DTEND:20181110T123000
SUMMARY:CLUB DE LECTURA.GRUP A "La filla del capità Groc" de Víctor Amela a càrrec de Jose Luis Ibáñez
LOCATION:Av. Pau Casals, 26 08450 Llinars del Vallès
METHOD:PUBLISH
X-WR-CALNAME:info@llinarsdelvalles.cat
X-WR-TIMEZONE:Europe/Madrid
DESCRIPTION:
URI:https://www.llinarsdelvalles.cat/actualitat/agenda/club-de-lecturagrup-a-la-filla-del-capita-groc-de-victor-amela-a-carrec-de-jose-luis-ibanez.html
CLASS:PUBLIC
END:VEVENT
END:VCALENDAR
