BEGIN:VCALENDAR
VERSION:2.0
CALSCALE:GREGORIAN
PRODID:-//Diputació de Barcelona//DibaCMS//EN
BEGIN:VEVENT
UID:54164
DTSTAMP:20260425T183339
DTSTART:20181027T120000
DTEND:20181027T120000
SUMMARY:CONCERT "Cor Safari Children" i Víctor Mandela
LOCATION:
METHOD:PUBLISH
X-WR-CALNAME:info@llinarsdelvalles.cat
X-WR-TIMEZONE:Europe/Madrid
DESCRIPTION:
URI:https://www.llinarsdelvalles.cat/actualitat/agenda/concert-cor-safari-children-i-victor-mandela.html
CLASS:PUBLIC
END:VEVENT
END:VCALENDAR
