BEGIN:VCALENDAR
VERSION:2.0
CALSCALE:GREGORIAN
PRODID:-//Diputació de Barcelona//DibaCMS//EN
BEGIN:VEVENT
UID:54165
DTSTAMP:20260426T041543
DTSTART:20181025T191500
DTEND:20181025T191500
SUMMARY:SCRABBLE: Vine a jugar! 
LOCATION:
METHOD:PUBLISH
X-WR-CALNAME:info@llinarsdelvalles.cat
X-WR-TIMEZONE:Europe/Madrid
DESCRIPTION:A la Biblioteca, en motiu de l'any Pompeu Fabra

URI:https://www.llinarsdelvalles.cat/actualitat/agenda/scrabble-vine-a-jugar-.html
CLASS:PUBLIC
END:VEVENT
END:VCALENDAR
