BEGIN:VCALENDAR
VERSION:2.0
CALSCALE:GREGORIAN
PRODID:-//Diputació de Barcelona//DibaCMS//EN
BEGIN:VEVENT
UID:54166
DTSTAMP:20260425T192927
DTSTART:20181116T180000
DTEND:20181116T180000
SUMMARY:BIBLIOLAB "Química a la cuina" a càrrec d'Explorium
LOCATION:
METHOD:PUBLISH
X-WR-CALNAME:info@llinarsdelvalles.cat
X-WR-TIMEZONE:Europe/Madrid
DESCRIPTION:La Biblioteca com a laboratori de creació i experimentació

URI:https://www.llinarsdelvalles.cat/actualitat/agenda/bibliolab-quimica-a-la-cuina-a-carrec-dexplorium.html
CLASS:PUBLIC
END:VEVENT
END:VCALENDAR
