BEGIN:VCALENDAR
VERSION:2.0
CALSCALE:GREGORIAN
PRODID:-//Diputació de Barcelona//DibaCMS//EN
BEGIN:VEVENT
UID:54167
DTSTAMP:20260426T024236
DTSTART:20181119T190000
DTEND:20181119T190000
SUMMARY:LLEGIR EL TEATRE "Cartografía de una desaparición de S. Blanco" a càrrec de la periodista Cristina Fernández
LOCATION:Av. Pau Casals, 26 08450 Llinars del Vallès
METHOD:PUBLISH
X-WR-CALNAME:info@llinarsdelvalles.cat
X-WR-TIMEZONE:Europe/Madrid
DESCRIPTION:
URI:https://www.llinarsdelvalles.cat/actualitat/agenda/llegir-el-teatre-cartografia-de-una-desaparicion-de-s-blanco-a-carrec-de-la-periodista-cristina-fernandez.html
CLASS:PUBLIC
END:VEVENT
END:VCALENDAR
