BEGIN:VCALENDAR
VERSION:2.0
CALSCALE:GREGORIAN
PRODID:-//Diputació de Barcelona//DibaCMS//EN
BEGIN:VEVENT
UID:54168
DTSTAMP:20260425T193508
DTSTART:20181123T190000
DTEND:20181123T190000
SUMMARY:CÀPSULES TIC: Aplicacions Waze, google maps, google earth...
LOCATION:Av. Pau Casals, 26 08450 Llinars del Vallès
METHOD:PUBLISH
X-WR-CALNAME:info@llinarsdelvalles.cat
X-WR-TIMEZONE:Europe/Madrid
DESCRIPTION:
URI:https://www.llinarsdelvalles.cat/actualitat/agenda/capsules-tic-aplicacions-waze-google-maps-google-earth.html
CLASS:PUBLIC
END:VEVENT
END:VCALENDAR
