BEGIN:VCALENDAR
VERSION:2.0
CALSCALE:GREGORIAN
PRODID:-//Diputació de Barcelona//DibaCMS//EN
BEGIN:VEVENT
UID:54169
DTSTAMP:20260425T182056
DTSTART:20181124T113000
DTEND:20181124T113000
SUMMARY:L'HORA DELS NADONS "Petons de colors" a càrrec de Mercè Rubí
LOCATION:Av. Pau Casals, 26 08450 Llinars del Vallès
METHOD:PUBLISH
X-WR-CALNAME:info@llinarsdelvalles.cat
X-WR-TIMEZONE:Europe/Madrid
DESCRIPTION:
URI:https://www.llinarsdelvalles.cat/actualitat/agenda/lhora-dels-nadons-petons-de-colors-a-carrec-de-merce-rubi.html
CLASS:PUBLIC
END:VEVENT
END:VCALENDAR
