BEGIN:VCALENDAR
VERSION:2.0
CALSCALE:GREGORIAN
PRODID:-//Diputació de Barcelona//DibaCMS//EN
BEGIN:VEVENT
UID:54170
DTSTAMP:20260425T174355
DTSTART:20181130T180000
DTEND:20181130T180000
SUMMARY:L'HORA DEL CONTE "Les històries d'en Rosinante" a càrrec de la Cia Patawa (contes de cavalls)
LOCATION:Av. Pau Casals, 26 08450 Llinars del Vallès
METHOD:PUBLISH
X-WR-CALNAME:info@llinarsdelvalles.cat
X-WR-TIMEZONE:Europe/Madrid
DESCRIPTION:
URI:https://www.llinarsdelvalles.cat/actualitat/agenda/lhora-del-conte-les-histories-den-rosinante-a-carrec-de-la-cia-patawa-contes-de-cavalls.html
CLASS:PUBLIC
END:VEVENT
END:VCALENDAR
