BEGIN:VCALENDAR
VERSION:2.0
CALSCALE:GREGORIAN
PRODID:-//Diputació de Barcelona//DibaCMS//EN
BEGIN:VEVENT
UID:54175
DTSTAMP:20260425T205216
DTSTART:20181121T180000
DTEND:20181121T180000
SUMMARY:TALLER Si treballes, què has de saber?
LOCATION:Av. Mas Bagà, 26 08450 Llinars del Vallès
METHOD:PUBLISH
X-WR-CALNAME:info@llinarsdelvalles.cat
X-WR-TIMEZONE:Europe/Madrid
DESCRIPTION:Adreçat a joves entre 16 i 35 anys.

URI:https://www.llinarsdelvalles.cat/actualitat/agenda/taller-si-treballes-que-has-de-saber.html
CLASS:PUBLIC
END:VEVENT
END:VCALENDAR
