BEGIN:VCALENDAR
VERSION:2.0
CALSCALE:GREGORIAN
PRODID:-//Diputació de Barcelona//DibaCMS//EN
BEGIN:VEVENT
UID:54177
DTSTAMP:20260425T172805
DTSTART:20181201T100000
DTEND:20181202T200000
SUMMARY:XXII Fira dels Torrons - II Tast a la Carpa
LOCATION:
METHOD:PUBLISH
X-WR-CALNAME:info@llinarsdelvalles.cat
X-WR-TIMEZONE:Europe/Madrid
DESCRIPTION:
URI:https://www.llinarsdelvalles.cat/actualitat/agenda/xxii-fira-dels-torrons-ii-tast-a-la-carpa.html
CLASS:PUBLIC
END:VEVENT
END:VCALENDAR
