BEGIN:VCALENDAR
VERSION:2.0
CALSCALE:GREGORIAN
PRODID:-//Diputació de Barcelona//DibaCMS//EN
BEGIN:VEVENT
UID:54181
DTSTAMP:20260425T211107
DTSTART:20181114T180000
DTEND:20181114T200000
SUMMARY:TALLER DE RELAXACIÓ Viure sense estrès a càrrec d'Anna Teruel
LOCATION:C/ Mas Bagà, 24 08450 Llinars del Vallés
METHOD:PUBLISH
X-WR-CALNAME:info@llinarsdelvalles.cat
X-WR-TIMEZONE:Europe/Madrid
DESCRIPTION:
URI:https://www.llinarsdelvalles.cat/actualitat/agenda/taller-de-relaxacio-viure-sense-estres-a-carrec-danna-teruel.html
CLASS:PUBLIC
END:VEVENT
END:VCALENDAR
