BEGIN:VCALENDAR
VERSION:2.0
CALSCALE:GREGORIAN
PRODID:-//Diputació de Barcelona//DibaCMS//EN
BEGIN:VEVENT
UID:54183
DTSTAMP:20260425T195023
DTSTART:20181113T190000
DTEND:20181113T190000
SUMMARY:XERRADA "Córrer per ser lliure" a càrrec de Núria Picas
LOCATION:Carrer Joaquim Costa, s/n 08450 Llinars del Vallès
METHOD:PUBLISH
X-WR-CALNAME:info@llinarsdelvalles.cat
X-WR-TIMEZONE:Europe/Madrid
DESCRIPTION:Oberta a tothom

URI:https://www.llinarsdelvalles.cat/actualitat/agenda/xerrada-correr-per-ser-lliure-a-carrec-de-nuria-picas.html
CLASS:PUBLIC
END:VEVENT
END:VCALENDAR
