BEGIN:VCALENDAR
VERSION:2.0
CALSCALE:GREGORIAN
PRODID:-//Diputació de Barcelona//DibaCMS//EN
BEGIN:VEVENT
UID:54192
DTSTAMP:20260425T205103
DTSTART:20181111T120000
DTEND:20181111T120000
SUMMARY:CONCERT A SANATA "Centenari Debussy" a càrrec de Nexus piano Duo
LOCATION:08450 Llinars del Vallès
METHOD:PUBLISH
X-WR-CALNAME:info@llinarsdelvalles.cat
X-WR-TIMEZONE:Europe/Madrid
DESCRIPTION:Dintre del 20è cicle de concerts a Sanata

URI:https://www.llinarsdelvalles.cat/actualitat/agenda/concert-a-sanata-centenari-debussy-a-carrec-de-nexus-piano-duo.html
CLASS:PUBLIC
END:VEVENT
END:VCALENDAR
