BEGIN:VCALENDAR
VERSION:2.0
CALSCALE:GREGORIAN
PRODID:-//Diputació de Barcelona//DibaCMS//EN
BEGIN:VEVENT
UID:54201
DTSTAMP:20260425T194639
DTSTART:20181124T183000
DTEND:20181124T183000
SUMMARY:Concert de Santa Cecília
LOCATION:Nova Escola Municipal de Música
C/ Còrsega
Llinars del Vallès
 
METHOD:PUBLISH
X-WR-CALNAME:info@llinarsdelvalles.cat
X-WR-TIMEZONE:Europe/Madrid
DESCRIPTION:En benefici de l'ONG 'Pallassos sense frontera'

URI:https://www.llinarsdelvalles.cat/actualitat/agenda/54201-concert-de-santa-cecilia.html
CLASS:PUBLIC
END:VEVENT
END:VCALENDAR
