BEGIN:VCALENDAR
VERSION:2.0
CALSCALE:GREGORIAN
PRODID:-//Diputació de Barcelona//DibaCMS//EN
BEGIN:VEVENT
UID:54205
DTSTAMP:20260425T185746
DTSTART:20181201T000000
DTEND:20190108T000000
SUMMARY:EXPOSICIÓ DE PINTURA "Bon Nadal des de l'aire" pels carrers i places de Llinars 
LOCATION:
METHOD:PUBLISH
X-WR-CALNAME:info@llinarsdelvalles.cat
X-WR-TIMEZONE:Europe/Madrid
DESCRIPTION:Projecte coordinat pel pintor Jesús Costa.

URI:https://www.llinarsdelvalles.cat/actualitat/agenda/exposicio-de-pintura-bon-nadal-des-de-laire-pels-carrers-i-places-de-llinars-.html
CLASS:PUBLIC
END:VEVENT
END:VCALENDAR
