BEGIN:VCALENDAR
VERSION:2.0
CALSCALE:GREGORIAN
PRODID:-//Diputació de Barcelona//DibaCMS//EN
BEGIN:VEVENT
UID:54211
DTSTAMP:20260425T155806
DTSTART:20181202T073000
DTEND:20181202T073000
SUMMARY:CAMINADA POPULAR
LOCATION:
METHOD:PUBLISH
X-WR-CALNAME:info@llinarsdelvalles.cat
X-WR-TIMEZONE:Europe/Madrid
DESCRIPTION:Sortida entre les 7.30 i les 8 h a la plaça dels Països Catalans.

URI:https://www.llinarsdelvalles.cat/actualitat/agenda/caminada-popular.html
CLASS:PUBLIC
END:VEVENT
END:VCALENDAR
