BEGIN:VCALENDAR
VERSION:2.0
CALSCALE:GREGORIAN
PRODID:-//Diputació de Barcelona//DibaCMS//EN
BEGIN:VEVENT
UID:54212
DTSTAMP:20260425T174026
DTSTART:20181209T131500
DTEND:20181209T131500
SUMMARY:DINAR DEL SOCI DE LA GENT GRAN I PENSIONISTA I BINGO SOLIDARI per a la Marató de TV3
LOCATION:C/ Ramon i Cajal - (cantonada Av. Granollers) 08450 Llinars del Vallés
METHOD:PUBLISH
X-WR-CALNAME:info@llinarsdelvalles.cat
X-WR-TIMEZONE:Europe/Madrid
DESCRIPTION:
URI:https://www.llinarsdelvalles.cat/actualitat/agenda/dinar-del-soci-de-la-gent-gran-i-pensionista-i-bingo-solidari-per-a-la-marato-de-tv3.html
CLASS:PUBLIC
END:VEVENT
END:VCALENDAR
