BEGIN:VCALENDAR
VERSION:2.0
CALSCALE:GREGORIAN
PRODID:-//Diputació de Barcelona//DibaCMS//EN
BEGIN:VEVENT
UID:54213
DTSTAMP:20260425T194528
DTSTART:20181212T193000
DTEND:20181212T193000
SUMMARY:LECTURA DRAMATITZADA "La Romança 3.0 del drac negre"
LOCATION:Av. Pau Casals, 26 08450 Llinars del Vallès
METHOD:PUBLISH
X-WR-CALNAME:info@llinarsdelvalles.cat
X-WR-TIMEZONE:Europe/Madrid
DESCRIPTION:A càrrec dels rapsodes del barri de l'Havana de Mataró: Pere Nogueras, Lita Palomera, Eva Bassó, Manel Morral, reforçats amb Genís Mayola

URI:https://www.llinarsdelvalles.cat/actualitat/agenda/lectura-dramatitzada-la-romanca-30-del-drac-negre.html
CLASS:PUBLIC
END:VEVENT
END:VCALENDAR
