BEGIN:VCALENDAR
VERSION:2.0
CALSCALE:GREGORIAN
PRODID:-//Diputació de Barcelona//DibaCMS//EN
BEGIN:VEVENT
UID:54215
DTSTAMP:20260425T155707
DTSTART:20181214T180000
DTEND:20181214T180000
SUMMARY:L'HORA DEL CONTE "Caga Tió" a càrrec de 3/4 de 15
LOCATION:Av. Pau Casals, 26 08450 Llinars del Vallès
METHOD:PUBLISH
X-WR-CALNAME:info@llinarsdelvalles.cat
X-WR-TIMEZONE:Europe/Madrid
DESCRIPTION:
URI:https://www.llinarsdelvalles.cat/actualitat/agenda/lhora-del-conte-caga-tio-a-carrec-de-34-de-15.html
CLASS:PUBLIC
END:VEVENT
END:VCALENDAR
