BEGIN:VCALENDAR
VERSION:2.0
CALSCALE:GREGORIAN
PRODID:-//Diputació de Barcelona//DibaCMS//EN
BEGIN:VEVENT
UID:54217
DTSTAMP:20260425T155906
DTSTART:20181216T100000
DTEND:20181216T140000
SUMMARY:MARKET DE NADAL
LOCATION:
METHOD:PUBLISH
X-WR-CALNAME:info@llinarsdelvalles.cat
X-WR-TIMEZONE:Europe/Madrid
DESCRIPTION:
URI:https://www.llinarsdelvalles.cat/actualitat/agenda/market-de-nadal.html
CLASS:PUBLIC
END:VEVENT
END:VCALENDAR
