BEGIN:VCALENDAR
VERSION:2.0
CALSCALE:GREGORIAN
PRODID:-//Diputació de Barcelona//DibaCMS//EN
BEGIN:VEVENT
UID:54218
DTSTAMP:20260425T144451
DTSTART:20181216T110000
DTEND:20181216T110000
SUMMARY:CONCERT DE NADAL amb l'Escola Municipal de Música
LOCATION:Ronda Sant Antoni, 19 08450 Llinars del Vallès
METHOD:PUBLISH
X-WR-CALNAME:info@llinarsdelvalles.cat
X-WR-TIMEZONE:Europe/Madrid
DESCRIPTION:Tres horaris diferents: a les 11 h, a les 13 h i a les 18 h
Més informació a l'Escola Municipal de Música

URI:https://www.llinarsdelvalles.cat/actualitat/agenda/concert-de-nadal-amb-lescola-municipal-de-musica.html
CLASS:PUBLIC
END:VEVENT
END:VCALENDAR
