BEGIN:VCALENDAR
VERSION:2.0
CALSCALE:GREGORIAN
PRODID:-//Diputació de Barcelona//DibaCMS//EN
BEGIN:VEVENT
UID:54221
DTSTAMP:20260425T144619
DTSTART:20181219T190000
DTEND:20181219T190000
SUMMARY:CONCERT DE NADAL DE PIANO a càrrec de Salvador Montané
LOCATION:Ronda Sant Antoni, 19 08450 Llinars del Vallès
METHOD:PUBLISH
X-WR-CALNAME:info@llinarsdelvalles.cat
X-WR-TIMEZONE:Europe/Madrid
DESCRIPTION:Cloenda dels actes commemoratius del 15è aniversari de la Biblioteca Can Casas

URI:https://www.llinarsdelvalles.cat/actualitat/agenda/concert-de-nadal-de-piano-a-carrec-de-salvador-montane.html
CLASS:PUBLIC
END:VEVENT
END:VCALENDAR
