BEGIN:VCALENDAR
VERSION:2.0
CALSCALE:GREGORIAN
PRODID:-//Diputació de Barcelona//DibaCMS//EN
BEGIN:VEVENT
UID:54222
DTSTAMP:20260425T182903
DTSTART:20181220T190000
DTEND:20181220T190000
SUMMARY:BIBART "Decoració de Nadal" a càrrec de Laura Calero
LOCATION:Av. Pau Casals, 26 08450 Llinars del Vallès
METHOD:PUBLISH
X-WR-CALNAME:info@llinarsdelvalles.cat
X-WR-TIMEZONE:Europe/Madrid
DESCRIPTION:
URI:https://www.llinarsdelvalles.cat/actualitat/agenda/bibart-decoracio-de-nadal-a-carrec-de-laura-calero.html
CLASS:PUBLIC
END:VEVENT
END:VCALENDAR
