BEGIN:VCALENDAR
VERSION:2.0
CALSCALE:GREGORIAN
PRODID:-//Diputació de Barcelona//DibaCMS//EN
BEGIN:VEVENT
UID:54223
DTSTAMP:20260425T144257
DTSTART:20181221T180000
DTEND:20181221T180000
SUMMARY:BIB-CREA "Nadal" a càrrec de Laura Calero
LOCATION:Av. Pau Casals, 26 08450 Llinars del Vallès
METHOD:PUBLISH
X-WR-CALNAME:info@llinarsdelvalles.cat
X-WR-TIMEZONE:Europe/Madrid
DESCRIPTION:
URI:https://www.llinarsdelvalles.cat/actualitat/agenda/bib-crea-nadal-a-carrec-de-laura-calero.html
CLASS:PUBLIC
END:VEVENT
END:VCALENDAR
