BEGIN:VCALENDAR
VERSION:2.0
CALSCALE:GREGORIAN
PRODID:-//Diputació de Barcelona//DibaCMS//EN
BEGIN:VEVENT
UID:54225
DTSTAMP:20260425T160312
DTSTART:20181222T180000
DTEND:20181222T180000
SUMMARY:CONCERT DE NADAL. Nadales tradicionals catalanes i d’arreu del món
LOCATION:Carrer de l'Església, 1 08450 Llinars del Vallès
METHOD:PUBLISH
X-WR-CALNAME:info@llinarsdelvalles.cat
X-WR-TIMEZONE:Europe/Madrid
DESCRIPTION:
URI:https://www.llinarsdelvalles.cat/actualitat/agenda/concert-de-nadal-nadales-tradicionals-catalanes-i-darreu-del-mon.html
CLASS:PUBLIC
END:VEVENT
END:VCALENDAR
