BEGIN:VCALENDAR
VERSION:2.0
CALSCALE:GREGORIAN
PRODID:-//Diputació de Barcelona//DibaCMS//EN
BEGIN:VEVENT
UID:54226
DTSTAMP:20260425T155548
DTSTART:20181223T074500
DTEND:20181128T000000
SUMMARY:PUJADA DEL PESSEBRE AL CIM DEL MATAGALLS
LOCATION:08450 Llinars del Vallès
METHOD:PUBLISH
X-WR-CALNAME:info@llinarsdelvalles.cat
X-WR-TIMEZONE:Europe/Madrid
DESCRIPTION:
URI:https://www.llinarsdelvalles.cat/actualitat/agenda/pujada-del-pessebre-al-cim-del-matagalls.html
CLASS:PUBLIC
END:VEVENT
END:VCALENDAR
