BEGIN:VCALENDAR
VERSION:2.0
CALSCALE:GREGORIAN
PRODID:-//Diputació de Barcelona//DibaCMS//EN
BEGIN:VEVENT
UID:54228
DTSTAMP:20260425T171235
DTSTART:20190104T170000
DTEND:20190104T170000
SUMMARY:VISITA DEL PATGE REIAL i taller de fanalets
LOCATION:Av. Pau Casals, 26 08450 Llinars del Vallès
METHOD:PUBLISH
X-WR-CALNAME:info@llinarsdelvalles.cat
X-WR-TIMEZONE:Europe/Madrid
DESCRIPTION:
URI:https://www.llinarsdelvalles.cat/actualitat/agenda/visita-del-patge-reial-i-taller-de-fanalets.html
CLASS:PUBLIC
END:VEVENT
END:VCALENDAR
