BEGIN:VCALENDAR
VERSION:2.0
CALSCALE:GREGORIAN
PRODID:-//Diputació de Barcelona//DibaCMS//EN
BEGIN:VEVENT
UID:54230
DTSTAMP:20260424T125514
DTSTART:20190105T180000
DTEND:20190105T180000
SUMMARY:CAVALCADA DELS REIS MAGS DE L'ORIENT acompanyats pel Patge Pipot i recollida de cartes
LOCATION:
METHOD:PUBLISH
X-WR-CALNAME:info@llinarsdelvalles.cat
X-WR-TIMEZONE:Europe/Madrid
DESCRIPTION:Sortida de la plaça de la Vila

URI:https://www.llinarsdelvalles.cat/actualitat/agenda/cavalcada-dels-reis-mags-de-lorient-acompanyats-pel-patge-pipot-i-recollida-de-cartes.html
CLASS:PUBLIC
END:VEVENT
END:VCALENDAR
