BEGIN:VCALENDAR
VERSION:2.0
CALSCALE:GREGORIAN
PRODID:-//Diputació de Barcelona//DibaCMS//EN
BEGIN:VEVENT
UID:54232
DTSTAMP:20260425T200825
DTSTART:20190111T193000
DTEND:20190111T193000
SUMMARY:XERRADA “Les plaques solars i el nou marc legal” a càrrec d’Arnau Planas i Gorriz de l’empresa Efecte Fotovoltaic
LOCATION:Av. Pau Casals, 26 08450 Llinars del Vallès
METHOD:PUBLISH
X-WR-CALNAME:info@llinarsdelvalles.cat
X-WR-TIMEZONE:Europe/Madrid
DESCRIPTION:
URI:https://www.llinarsdelvalles.cat/actualitat/agenda/xerrada-les-plaques-solars-i-el-nou-marc-legal-a-carrec-darnau-planas-i-gorriz-de-lempresa-efecte-fotovoltaic.html
CLASS:PUBLIC
END:VEVENT
END:VCALENDAR
