BEGIN:VCALENDAR
VERSION:2.0
CALSCALE:GREGORIAN
PRODID:-//Diputació de Barcelona//DibaCMS//EN
BEGIN:VEVENT
UID:54234
DTSTAMP:20260425T201158
DTSTART:20190119T103000
DTEND:20190119T123000
SUMMARY:CLUB DE LECTURA. GRUP A “La Presa de Kenzaburo Oe” a càrrec de Jose Luis Ibáñez
LOCATION:Av. Pau Casals, 26 08450 Llinars del Vallès
METHOD:PUBLISH
X-WR-CALNAME:info@llinarsdelvalles.cat
X-WR-TIMEZONE:Europe/Madrid
DESCRIPTION:
URI:https://www.llinarsdelvalles.cat/actualitat/agenda/54234-club-de-lectura-grup-a-la-presa-de-kenzaburo-oe-a-carrec-de-jose-luis-ibanez.html
CLASS:PUBLIC
END:VEVENT
END:VCALENDAR
