BEGIN:VCALENDAR
VERSION:2.0
CALSCALE:GREGORIAN
PRODID:-//Diputació de Barcelona//DibaCMS//EN
BEGIN:VEVENT
UID:54239
DTSTAMP:20260425T193819
DTSTART:20190125T180000
DTEND:20190125T180000
SUMMARY:L'HORA DEL CONTE "L'aniversari" a càrrec de la Cia. Albert Vinyes
LOCATION:Av. Pau Casals, 26 08450 Llinars del Vallès
METHOD:PUBLISH
X-WR-CALNAME:info@llinarsdelvalles.cat
X-WR-TIMEZONE:Europe/Madrid
DESCRIPTION:Adreçat a infants a partir de 3 años

URI:https://www.llinarsdelvalles.cat/actualitat/agenda/lhora-del-conte-laniversari-a-carrec-de-la-cia-albert-vinyes.html
CLASS:PUBLIC
END:VEVENT
END:VCALENDAR
