BEGIN:VCALENDAR
VERSION:2.0
CALSCALE:GREGORIAN
PRODID:-//Diputació de Barcelona//DibaCMS//EN
BEGIN:VEVENT
UID:54240
DTSTAMP:20260425T193417
DTSTART:20190126T113000
DTEND:20190126T113000
SUMMARY:L'HORA DELS NADONS "Petit Gran" a càrrec de la Cia. Albert Vinyes
LOCATION:Av. Pau Casals, 26 08450 Llinars del Vallès
METHOD:PUBLISH
X-WR-CALNAME:info@llinarsdelvalles.cat
X-WR-TIMEZONE:Europe/Madrid
DESCRIPTION:Infants d'1 a 3 anys.

URI:https://www.llinarsdelvalles.cat/actualitat/agenda/lhora-dels-nadons-petit-gran-a-carrec-de-la-cia-albert-vinyes.html
CLASS:PUBLIC
END:VEVENT
END:VCALENDAR
