BEGIN:VCALENDAR
VERSION:2.0
CALSCALE:GREGORIAN
PRODID:-//Diputació de Barcelona//DibaCMS//EN
BEGIN:VEVENT
UID:54241
DTSTAMP:20260425T174635
DTSTART:20181201T100000
DTEND:20181221T200000
SUMMARY:EXPOSICIÓ DE FOTOGRAFIA I PINTURA EN PETIT FORMAT a càrrec de Jesús Costa i Antonio González 
LOCATION:Av. Pau Casals, 26 08450 Llinars del Vallès
METHOD:PUBLISH
X-WR-CALNAME:info@llinarsdelvalles.cat
X-WR-TIMEZONE:Europe/Madrid
DESCRIPTION:De l’1 al 21 de desembre en Horari de la Biblioteca.

URI:https://www.llinarsdelvalles.cat/actualitat/agenda/exposicio-de-fotografia-i-pintura-en-petit-format-a-carrec-de-jesus-costa-i-antonio-gonzalez-.html
CLASS:PUBLIC
END:VEVENT
END:VCALENDAR
