BEGIN:VCALENDAR
VERSION:2.0
CALSCALE:GREGORIAN
PRODID:-//Diputació de Barcelona//DibaCMS//EN
BEGIN:VEVENT
UID:54242
DTSTAMP:20260425T211940
DTSTART:20190102T100000
DTEND:20190131T200000
SUMMARY:EXPOSICIÓ DE PINTURA "Un nou començament" a càrrec de Dolors Fernández Barranco
LOCATION:Av. Pau Casals, 26 08450 Llinars del Vallès
METHOD:PUBLISH
X-WR-CALNAME:info@llinarsdelvalles.cat
X-WR-TIMEZONE:Europe/Madrid
DESCRIPTION:Del 2 al 31 de gener en horari de la Biblioteca.

URI:https://www.llinarsdelvalles.cat/actualitat/agenda/exposicio-de-pintura-un-nou-comencament-a-carrec-de-dolors-fernandez-barranco.html
CLASS:PUBLIC
END:VEVENT
END:VCALENDAR
