BEGIN:VCALENDAR
VERSION:2.0
CALSCALE:GREGORIAN
PRODID:-//Diputació de Barcelona//DibaCMS//EN
BEGIN:VEVENT
UID:54264
DTSTAMP:20260425T145150
DTSTART:20190106T190000
DTEND:20190106T190000
SUMMARY:MÚSICA CLÀSSICA AL TA - Valsos i Polques: De Viena a Llinars
LOCATION:Ronda Sant Antoni, 19 08450 Llinars del Vallès
METHOD:PUBLISH
X-WR-CALNAME:info@llinarsdelvalles.cat
X-WR-TIMEZONE:Europe/Madrid
DESCRIPTION:
URI:https://www.llinarsdelvalles.cat/actualitat/agenda/musica-classica-al-ta-valsos-i-polques-de-viena-a-llinars.html
CLASS:PUBLIC
END:VEVENT
END:VCALENDAR
