BEGIN:VCALENDAR
VERSION:2.0
CALSCALE:GREGORIAN
PRODID:-//Diputació de Barcelona//DibaCMS//EN
BEGIN:VEVENT
UID:54265
DTSTAMP:20260425T183222
DTSTART:20190120T120000
DTEND:20190120T120000
SUMMARY:ESPECTACLE FAMILIAR AL TA - 'Scargots' a càrrec de la Cia Pere Hosta i Toti Toronell - Slow Olou 
LOCATION:Ronda Sant Antoni, 19 08450 Llinars del Vallès
METHOD:PUBLISH
X-WR-CALNAME:info@llinarsdelvalles.cat
X-WR-TIMEZONE:Europe/Madrid
DESCRIPTION:
URI:https://www.llinarsdelvalles.cat/actualitat/agenda/espectacle-familiar-al-ta-scargots-a-carrec-de-la-cia-pere-hosta-i-toti-toronell-slow-olou-.html
CLASS:PUBLIC
END:VEVENT
END:VCALENDAR
