BEGIN:VCALENDAR
VERSION:2.0
CALSCALE:GREGORIAN
PRODID:-//Diputació de Barcelona//DibaCMS//EN
BEGIN:VEVENT
UID:54268
DTSTAMP:20260425T182601
DTSTART:20190127T200000
DTEND:20190127T200000
SUMMARY:TEATRE MUSICAL AL TA - Maremar de Dagoll Dagom
LOCATION:Ronda Sant Antoni, 19 08450 Llinars del Vallès
METHOD:PUBLISH
X-WR-CALNAME:info@llinarsdelvalles.cat
X-WR-TIMEZONE:Europe/Madrid
DESCRIPTION:
URI:https://www.llinarsdelvalles.cat/actualitat/agenda/54268-teatre-musical-al-ta-maremar-de-dagoll-dagom.html
CLASS:PUBLIC
END:VEVENT
END:VCALENDAR
