BEGIN:VCALENDAR
VERSION:2.0
CALSCALE:GREGORIAN
PRODID:-//Diputació de Barcelona//DibaCMS//EN
BEGIN:VEVENT
UID:54269
DTSTAMP:20260425T170206
DTSTART:20181130T000000
DTEND:20181130T000000
SUMMARY:Primeres activitats referents a 'Veniu a mi. La Passió de Llinars' 2019
LOCATION:Av. Pau Casals, 26 08450 Llinars del Vallès
METHOD:PUBLISH
X-WR-CALNAME:info@llinarsdelvalles.cat
X-WR-TIMEZONE:Europe/Madrid
DESCRIPTION:
URI:https://www.llinarsdelvalles.cat/actualitat/agenda/primeres-activitats-referents-a-veniu-a-mi-la-passio-de-llinars-2019.html
CLASS:PUBLIC
END:VEVENT
END:VCALENDAR
