BEGIN:VCALENDAR
VERSION:2.0
CALSCALE:GREGORIAN
PRODID:-//Diputació de Barcelona//DibaCMS//EN
BEGIN:VEVENT
UID:54270
DTSTAMP:20260425T205333
DTSTART:20190208T220000
DTEND:20190208T220000
SUMMARY:TEATRE AL TA - Scape Room
LOCATION:Ronda Sant Antoni, 19 08450 Llinars del Vallès
METHOD:PUBLISH
X-WR-CALNAME:info@llinarsdelvalles.cat
X-WR-TIMEZONE:Europe/Madrid
DESCRIPTION:
URI:https://www.llinarsdelvalles.cat/actualitat/agenda/teatre-al-ta-scape-room.html
CLASS:PUBLIC
END:VEVENT
END:VCALENDAR
