BEGIN:VCALENDAR
VERSION:2.0
CALSCALE:GREGORIAN
PRODID:-//Diputació de Barcelona//DibaCMS//EN
BEGIN:VEVENT
UID:54271
DTSTAMP:20260425T194655
DTSTART:20190209T180000
DTEND:20190209T190000
SUMMARY:TEATRE AL TA - La Ratera
LOCATION:Ronda Sant Antoni, 19 08450 Llinars del Vallès
METHOD:PUBLISH
X-WR-CALNAME:info@llinarsdelvalles.cat
X-WR-TIMEZONE:Europe/Madrid
DESCRIPTION:
URI:https://www.llinarsdelvalles.cat/actualitat/agenda/teatre-al-ta-la-ratera.html
CLASS:PUBLIC
END:VEVENT
END:VCALENDAR
