BEGIN:VCALENDAR
VERSION:2.0
CALSCALE:GREGORIAN
PRODID:-//Diputació de Barcelona//DibaCMS//EN
BEGIN:VEVENT
UID:54272
DTSTAMP:20260425T134245
DTSTART:20190210T120000
DTEND:20190210T120000
SUMMARY:TA - Festival Zero - 'Espera' espectacle familiar de circ i dansa
LOCATION:Ronda Sant Antoni, 19 08450 Llinars del Vallès
METHOD:PUBLISH
X-WR-CALNAME:info@llinarsdelvalles.cat
X-WR-TIMEZONE:Europe/Madrid
DESCRIPTION:
URI:https://www.llinarsdelvalles.cat/actualitat/agenda/ta-festival-zero-espera-espectacle-familiar-de-circ-i-dansa.html
CLASS:PUBLIC
END:VEVENT
END:VCALENDAR
