BEGIN:VCALENDAR
VERSION:2.0
CALSCALE:GREGORIAN
PRODID:-//Diputació de Barcelona//DibaCMS//EN
BEGIN:VEVENT
UID:54273
DTSTAMP:20260425T144422
DTSTART:20190210T180000
DTEND:20190210T180000
SUMMARY:TA - Festival Zero - 'A mi no me escribió Tenesse Williams' teatre
LOCATION:Ronda Sant Antoni, 19 08450 Llinars del Vallès
METHOD:PUBLISH
X-WR-CALNAME:info@llinarsdelvalles.cat
X-WR-TIMEZONE:Europe/Madrid
DESCRIPTION:
URI:https://www.llinarsdelvalles.cat/actualitat/agenda/ta-festival-zero-a-mi-no-me-escribio-tenesse-williams-teatre.html
CLASS:PUBLIC
END:VEVENT
END:VCALENDAR
