BEGIN:VCALENDAR
VERSION:2.0
CALSCALE:GREGORIAN
PRODID:-//Diputació de Barcelona//DibaCMS//EN
BEGIN:VEVENT
UID:54278
DTSTAMP:20260425T134436
DTSTART:20190222T200000
DTEND:20190222T200000
SUMMARY:CINEMA CLÀSSIC EN VERSIÓ ORIGINAL AL TA - Fes-me un petó, ximplet!
LOCATION:Ronda Sant Antoni, 19 08450 Llinars del Vallès
METHOD:PUBLISH
X-WR-CALNAME:info@llinarsdelvalles.cat
X-WR-TIMEZONE:Europe/Madrid
DESCRIPTION:
URI:https://www.llinarsdelvalles.cat/actualitat/agenda/cinema-classic-en-versio-original-al-ta-fes-me-un-peto-ximplet.html
CLASS:PUBLIC
END:VEVENT
END:VCALENDAR
