BEGIN:VCALENDAR
VERSION:2.0
CALSCALE:GREGORIAN
PRODID:-//Diputació de Barcelona//DibaCMS//EN
BEGIN:VEVENT
UID:54279
DTSTAMP:20260425T184009
DTSTART:20190223T180000
DTEND:20190223T180000
SUMMARY:MÚSICA CLÀSSICA AL TA - Cantem als arbres nostrats
LOCATION:Ronda Sant Antoni, 19 08450 Llinars del Vallès
METHOD:PUBLISH
X-WR-CALNAME:info@llinarsdelvalles.cat
X-WR-TIMEZONE:Europe/Madrid
DESCRIPTION:
URI:https://www.llinarsdelvalles.cat/actualitat/agenda/musica-classica-al-ta-cantem-als-arbres-nostrats.html
CLASS:PUBLIC
END:VEVENT
END:VCALENDAR
