BEGIN:VCALENDAR
VERSION:2.0
CALSCALE:GREGORIAN
PRODID:-//Diputació de Barcelona//DibaCMS//EN
BEGIN:VEVENT
UID:54281
DTSTAMP:20260425T183243
DTSTART:20190301T220000
DTEND:20190301T220000
SUMMARY:TEATRE AL TA - El Preu
LOCATION:
METHOD:PUBLISH
X-WR-CALNAME:info@llinarsdelvalles.cat
X-WR-TIMEZONE:Europe/Madrid
DESCRIPTION:
URI:https://www.llinarsdelvalles.cat/actualitat/agenda/teatre-al-ta-el-preu.html
CLASS:PUBLIC
END:VEVENT
END:VCALENDAR
