BEGIN:VCALENDAR
VERSION:2.0
CALSCALE:GREGORIAN
PRODID:-//Diputació de Barcelona//DibaCMS//EN
BEGIN:VEVENT
UID:54282
DTSTAMP:20260426T013414
DTSTART:20190303T190000
DTEND:20190303T190000
SUMMARY:MÚSICA AL TA - Las Migas: Vente conmigo
LOCATION:Ronda Sant Antoni, 19 08450 Llinars del Vallès
METHOD:PUBLISH
X-WR-CALNAME:info@llinarsdelvalles.cat
X-WR-TIMEZONE:Europe/Madrid
DESCRIPTION:
URI:https://www.llinarsdelvalles.cat/actualitat/agenda/musica-al-ta-las-migas-vente-conmigo.html
CLASS:PUBLIC
END:VEVENT
END:VCALENDAR
